BEGIN:VCALENDAR
VERSION:2.0
PRODID:-//pretix//pretix.eu//
BEGIN:VTIMEZONE
TZID:Europe/Berlin
BEGIN:STANDARD
DTSTART:20001029T040000
RRULE:FREQ=YEARLY;BYDAY=-1SU;BYMONTH=10
TZNAME:CET
TZOFFSETFROM:+0200
TZOFFSETTO:+0100
END:STANDARD
BEGIN:DAYLIGHT
DTSTART:20000326T030000
RRULE:FREQ=YEARLY;BYDAY=-1SU;BYMONTH=3
TZNAME:CEST
TZOFFSETFROM:+0100
TZOFFSETTO:+0200
END:DAYLIGHT
END:VTIMEZONE
BEGIN:VEVENT
UID:pretix-uds-gcs-you-as-a-founder-i-0@tickets.gruendercampus-saar.de
DTSTART;TZID=Europe/Berlin:20260428T130000
DTEND;TZID=Europe/Berlin:20260428T173000
DESCRIPTION:Tickets: https://tickets.gruendercampus-saar.de/you-as-a-founde
 r-i/\nOrganizer: Triathlon
DTSTAMP:20260422T142507Z
LOCATION:Saarland University\, Innovation Center - room 3.04
SUMMARY:You as a Founder: Mindset\, Motivation\, Self-Efficiency Part 1 [EN
 ]
END:VEVENT
END:VCALENDAR
