BEGIN:VCALENDAR
VERSION:2.0
PRODID:-//pretix//pretix.eu//
BEGIN:VTIMEZONE
TZID:Europe/Berlin
BEGIN:STANDARD
DTSTART:20001029T040000
RRULE:FREQ=YEARLY;BYDAY=-1SU;BYMONTH=10
TZNAME:CET
TZOFFSETFROM:+0200
TZOFFSETTO:+0100
END:STANDARD
BEGIN:DAYLIGHT
DTSTART:20000326T030000
RRULE:FREQ=YEARLY;BYDAY=-1SU;BYMONTH=3
TZNAME:CEST
TZOFFSETFROM:+0100
TZOFFSETTO:+0200
END:DAYLIGHT
END:VTIMEZONE
BEGIN:VEVENT
UID:pretix-uds-gcs-solo-collaboration-ii-0@tickets.gruendercampus-saar.de
DTSTART;TZID=Europe/Berlin:20261020T130000
DTEND;TZID=Europe/Berlin:20261020T173000
DESCRIPTION:Tickets: https://tickets.gruendercampus-saar.de/solo-collaborat
 ion-ii/\nOrganizer: Triathlon
DTSTAMP:20260422T143049Z
LOCATION:Saarland University\, Innovation Center - room 3.04
SUMMARY:From Working Solo to Collaboration: Team\, Network & Pitch with Com
 posure Part 2 [EN]
END:VEVENT
END:VCALENDAR
