BEGIN:VCALENDAR
VERSION:2.0
PRODID:-//pretix//pretix.eu//
BEGIN:VTIMEZONE
TZID:Europe/Berlin
BEGIN:STANDARD
DTSTART:20001029T040000
RRULE:FREQ=YEARLY;BYDAY=-1SU;BYMONTH=10
TZNAME:CET
TZOFFSETFROM:+0200
TZOFFSETTO:+0100
END:STANDARD
BEGIN:DAYLIGHT
DTSTART:20000326T030000
RRULE:FREQ=YEARLY;BYDAY=-1SU;BYMONTH=3
TZNAME:CEST
TZOFFSETFROM:+0100
TZOFFSETTO:+0200
END:DAYLIGHT
END:VTIMEZONE
BEGIN:VEVENT
UID:pretix-uds-gcs-confident-clear-0@tickets.gruendercampus-saar.de
DTSTART;TZID=Europe/Berlin:20261124T130000
DTEND;TZID=Europe/Berlin:20261124T173000
DESCRIPTION:Tickets: https://tickets.gruendercampus-saar.de/confident-clear
 /\nOrganizer: Triathlon
DTSTAMP:20260422T142814Z
LOCATION:Saarland University\, Starter Center A1.1 – training room
SUMMARY:Confident & Clear: Projecting self-Confidence in a Male-Dominated E
 nvironment [EN]
END:VEVENT
END:VCALENDAR
