BEGIN:VCALENDAR
VERSION:2.0
PRODID:-//pretix//pretix.eu//
BEGIN:VTIMEZONE
TZID:Europe/Berlin
BEGIN:STANDARD
DTSTART:20001029T040000
RRULE:FREQ=YEARLY;BYDAY=-1SU;BYMONTH=10
TZNAME:CET
TZOFFSETFROM:+0200
TZOFFSETTO:+0100
END:STANDARD
BEGIN:DAYLIGHT
DTSTART:20000326T030000
RRULE:FREQ=YEARLY;BYDAY=-1SU;BYMONTH=3
TZNAME:CEST
TZOFFSETFROM:+0100
TZOFFSETTO:+0200
END:DAYLIGHT
END:VTIMEZONE
BEGIN:VEVENT
UID:pretix-uds-gcs-arduino-basics-4891756@tickets.gruendercampus-saar.de
DTSTART;TZID=Europe/Berlin:20260602T150000
DTEND;TZID=Europe/Berlin:20260602T163000
DESCRIPTION:Tickets: https://tickets.gruendercampus-saar.de/arduino-basics/
 4891756/\nVeranstalter: Triathlon
DTSTAMP:20260421T085838Z
LOCATION:Universität des Saarlandes\, Innovation Center\, A2 1\, FabLab
SUMMARY:Arduino Basics
END:VEVENT
END:VCALENDAR
