BEGIN:VCALENDAR
VERSION:2.0
PRODID:-//pretix//pretix.eu//
BEGIN:VTIMEZONE
TZID:Europe/Berlin
BEGIN:STANDARD
DTSTART:20001029T040000
RRULE:FREQ=YEARLY;BYDAY=-1SU;BYMONTH=10
TZNAME:CET
TZOFFSETFROM:+0200
TZOFFSETTO:+0100
END:STANDARD
BEGIN:DAYLIGHT
DTSTART:20000326T030000
RRULE:FREQ=YEARLY;BYDAY=-1SU;BYMONTH=3
TZNAME:CEST
TZOFFSETFROM:+0100
TZOFFSETTO:+0200
END:DAYLIGHT
END:VTIMEZONE
BEGIN:VEVENT
UID:pretix-uds-gcs-SAD2410-0@tickets.gruendercampus-saar.de
DTSTART;TZID=Europe/Berlin:20241008T170000
DTEND;TZID=Europe/Berlin:20241008T200000
DESCRIPTION:Tickets: https://tickets.gruendercampus-saar.de/SAD2410/\nOrgan
 izer: Triathlon
DTSTAMP:20260421T153259Z
LOCATION:Innovation Center\, Campus A2 1\, 66123 Saarbrücken
SUMMARY:7th Saarland Accelerator: Demo Day
END:VEVENT
END:VCALENDAR
