BEGIN:VCALENDAR
VERSION:2.0
PRODID:-//pretix//pretix.eu//
BEGIN:VTIMEZONE
TZID:Europe/Berlin
BEGIN:STANDARD
DTSTART:20001029T040000
RRULE:FREQ=YEARLY;BYDAY=-1SU;BYMONTH=10
TZNAME:CET
TZOFFSETFROM:+0200
TZOFFSETTO:+0100
END:STANDARD
BEGIN:DAYLIGHT
DTSTART:20000326T030000
RRULE:FREQ=YEARLY;BYDAY=-1SU;BYMONTH=3
TZNAME:CEST
TZOFFSETFROM:+0100
TZOFFSETTO:+0200
END:DAYLIGHT
END:VTIMEZONE
BEGIN:VEVENT
UID:pretix-uds-gcs-NGA2504-0@tickets.gruendercampus-saar.de
DTSTART;TZID=Europe/Berlin:20250429T180000
DTEND;TZID=Europe/Berlin:20250429T220000
DESCRIPTION:Tickets: https://tickets.gruendercampus-saar.de/NGA2504/\nOrgan
 izer: Triathlon
DTSTAMP:20260421T121140Z
LOCATION:Innovation Center\, Saarland University\, Campus A2 1
SUMMARY:Networking Event – German Accelerator Kickstart Programm
END:VEVENT
END:VCALENDAR
