BEGIN:VCALENDAR
VERSION:2.0
PRODID:-//pretix//pretix.eu//
BEGIN:VTIMEZONE
TZID:Europe/Berlin
BEGIN:STANDARD
DTSTART:20001029T040000
RRULE:FREQ=YEARLY;BYDAY=-1SU;BYMONTH=10
TZNAME:CET
TZOFFSETFROM:+0200
TZOFFSETTO:+0100
END:STANDARD
BEGIN:DAYLIGHT
DTSTART:20000326T030000
RRULE:FREQ=YEARLY;BYDAY=-1SU;BYMONTH=3
TZNAME:CEST
TZOFFSETFROM:+0100
TZOFFSETTO:+0200
END:DAYLIGHT
END:VTIMEZONE
BEGIN:VEVENT
UID:pretix-uds-gcs-ITM2504-0@tickets.gruendercampus-saar.de
DTSTART;TZID=Europe/Berlin:20250422T160000
DTEND;TZID=Europe/Berlin:20250422T173000
DESCRIPTION:Tickets: https://tickets.gruendercampus-saar.de/ITM2504/\nOrgan
 izer: Triathlon
DTSTAMP:20260421T120350Z
LOCATION:Campus Saarbrücken\, E1 3\, Room 001
SUMMARY:You can do IT! Entrepreneurship in IT and Maths
END:VEVENT
END:VCALENDAR
