BEGIN:VCALENDAR
VERSION:2.0
PRODID:-//pretix//pretix.eu//
BEGIN:VTIMEZONE
TZID:Europe/Berlin
BEGIN:STANDARD
DTSTART:20001029T040000
RRULE:FREQ=YEARLY;BYDAY=-1SU;BYMONTH=10
TZNAME:CET
TZOFFSETFROM:+0200
TZOFFSETTO:+0100
END:STANDARD
BEGIN:DAYLIGHT
DTSTART:20000326T030000
RRULE:FREQ=YEARLY;BYDAY=-1SU;BYMONTH=3
TZNAME:CEST
TZOFFSETFROM:+0100
TZOFFSETTO:+0200
END:DAYLIGHT
END:VTIMEZONE
BEGIN:VEVENT
UID:pretix-uds-gcs-2502EFS-0@tickets.gruendercampus-saar.de
DTSTART;TZID=Europe/Berlin:20250227T140000
DTEND;TZID=Europe/Berlin:20250227T180000
DESCRIPTION:Tickets: https://tickets.gruendercampus-saar.de/2502EFS/\nOrgan
 izer: Triathlon
DTSTAMP:20260421T134451Z
LOCATION:Saarland University\, Innovation Center
SUMMARY:Entrepreneurship for Scientists by GradUS and Triathlon
END:VEVENT
END:VCALENDAR
